BEGIN:VCALENDAR
VERSION:2.0
PRODID:-//Down Syndrome Association of Brevard - ECPv6.15.20//NONSGML v1.0//EN
CALSCALE:GREGORIAN
METHOD:PUBLISH
X-ORIGINAL-URL:https://dsabwp.azurewebsites.net
X-WR-CALDESC:Events for Down Syndrome Association of Brevard
REFRESH-INTERVAL;VALUE=DURATION:PT1H
X-Robots-Tag:noindex
X-PUBLISHED-TTL:PT1H
BEGIN:VTIMEZONE
TZID:UTC
BEGIN:STANDARD
TZOFFSETFROM:+0000
TZOFFSETTO:+0000
TZNAME:UTC
DTSTART:20220101T000000
END:STANDARD
END:VTIMEZONE
BEGIN:VEVENT
DTSTART;TZID=UTC:20230404T113000
DTEND;TZID=UTC:20230404T140000
DTSTAMP:20260420T100215
CREATED:20230327T201459Z
LAST-MODIFIED:20230327T201459Z
UID:10000087-1680607800-1680616800@dsabwp.azurewebsites.net
SUMMARY:Small Business NP Lunch
DESCRIPTION:
URL:https://dsabwp.azurewebsites.net/event/small-business-np-lunch/
END:VEVENT
BEGIN:VEVENT
DTSTART;TZID=UTC:20230407T100000
DTEND;TZID=UTC:20230407T130000
DTSTAMP:20260420T100215
CREATED:20230328T041219Z
LAST-MODIFIED:20230328T041219Z
UID:10000096-1680861600-1680872400@dsabwp.azurewebsites.net
SUMMARY:Tiny Movers
DESCRIPTION:
URL:https://dsabwp.azurewebsites.net/event/tiny-movers-2/2023-04-07/
END:VEVENT
BEGIN:VEVENT
DTSTART;TZID=UTC:20230414T100000
DTEND;TZID=UTC:20230414T130000
DTSTAMP:20260420T100215
CREATED:20230328T041219Z
LAST-MODIFIED:20230328T041219Z
UID:10000097-1681466400-1681477200@dsabwp.azurewebsites.net
SUMMARY:Tiny Movers
DESCRIPTION:
URL:https://dsabwp.azurewebsites.net/event/tiny-movers-2/2023-04-14/
END:VEVENT
BEGIN:VEVENT
DTSTART;TZID=UTC:20230420T103000
DTEND;TZID=UTC:20230420T133000
DTSTAMP:20260420T100215
CREATED:20230328T042440Z
LAST-MODIFIED:20230328T043255Z
UID:10000102-1681986600-1681997400@dsabwp.azurewebsites.net
SUMMARY:Teen Adult Social
DESCRIPTION:
URL:https://dsabwp.azurewebsites.net/event/teen-adult-social-2/
END:VEVENT
BEGIN:VEVENT
DTSTART;TZID=UTC:20230421T100000
DTEND;TZID=UTC:20230421T130000
DTSTAMP:20260420T100215
CREATED:20230328T041219Z
LAST-MODIFIED:20230328T041219Z
UID:10000098-1682071200-1682082000@dsabwp.azurewebsites.net
SUMMARY:Tiny Movers
DESCRIPTION:
URL:https://dsabwp.azurewebsites.net/event/tiny-movers-2/2023-04-21/
END:VEVENT
BEGIN:VEVENT
DTSTART;TZID=UTC:20230428T100000
DTEND;TZID=UTC:20230428T130000
DTSTAMP:20260420T100215
CREATED:20230328T041219Z
LAST-MODIFIED:20230328T041219Z
UID:10000099-1682676000-1682686800@dsabwp.azurewebsites.net
SUMMARY:Tiny Movers
DESCRIPTION:
URL:https://dsabwp.azurewebsites.net/event/tiny-movers-2/2023-04-28/
END:VEVENT
END:VCALENDAR