BEGIN:VCALENDAR
VERSION:2.0
PRODID:-//Down Syndrome Association of Brevard - ECPv6.15.20//NONSGML v1.0//EN
CALSCALE:GREGORIAN
METHOD:PUBLISH
X-WR-CALNAME:Down Syndrome Association of Brevard
X-ORIGINAL-URL:https://dsabwp.azurewebsites.net
X-WR-CALDESC:Events for Down Syndrome Association of Brevard
REFRESH-INTERVAL;VALUE=DURATION:PT1H
X-Robots-Tag:noindex
X-PUBLISHED-TTL:PT1H
BEGIN:VTIMEZONE
TZID:America/New_York
BEGIN:DAYLIGHT
TZOFFSETFROM:-0500
TZOFFSETTO:-0400
TZNAME:EDT
DTSTART:20240310T070000
END:DAYLIGHT
BEGIN:STANDARD
TZOFFSETFROM:-0400
TZOFFSETTO:-0500
TZNAME:EST
DTSTART:20241103T060000
END:STANDARD
BEGIN:DAYLIGHT
TZOFFSETFROM:-0500
TZOFFSETTO:-0400
TZNAME:EDT
DTSTART:20250309T070000
END:DAYLIGHT
BEGIN:STANDARD
TZOFFSETFROM:-0400
TZOFFSETTO:-0500
TZNAME:EST
DTSTART:20251102T060000
END:STANDARD
BEGIN:DAYLIGHT
TZOFFSETFROM:-0500
TZOFFSETTO:-0400
TZNAME:EDT
DTSTART:20260308T070000
END:DAYLIGHT
BEGIN:STANDARD
TZOFFSETFROM:-0400
TZOFFSETTO:-0500
TZNAME:EST
DTSTART:20261101T060000
END:STANDARD
END:VTIMEZONE
BEGIN:VEVENT
DTSTART;TZID=America/New_York:20250130T160000
DTEND;TZID=America/New_York:20250130T164500
DTSTAMP:20260419T183534
CREATED:20250104T184821Z
LAST-MODIFIED:20250929T115516Z
UID:10003150-1738252800-1738255500@dsabwp.azurewebsites.net
SUMMARY:Little Melodies ages 0-4
DESCRIPTION:Music Therapy for all abilities incorporating music and developmental goals! This class is open to siblings
URL:https://dsabwp.azurewebsites.net/event/little-melodies-ages-0-4/2025-01-30/
LOCATION:Florida Music Therapy Center\, 1906 Platt Street\, Melbourne\, 32901\, United States
END:VEVENT
BEGIN:VEVENT
DTSTART;TZID=America/New_York:20250129T170000
DTEND;TZID=America/New_York:20250129T180000
DTSTAMP:20260419T183534
CREATED:20250104T185201Z
LAST-MODIFIED:20250929T115602Z
UID:10003285-1738170000-1738173600@dsabwp.azurewebsites.net
SUMMARY:Music Meet Up Ages 11+
DESCRIPTION:A music therapy group for all incorporating music and movement! This class is closed to siblings.
URL:https://dsabwp.azurewebsites.net/event/music-meet-up-ages-11/2025-01-29/
LOCATION:Florida Music Therapy Center\, 1906 Platt Street\, Melbourne\, 32901\, United States
END:VEVENT
BEGIN:VEVENT
DTSTART;TZID=America/New_York:20250129T170000
DTEND;TZID=America/New_York:20250129T174500
DTSTAMP:20260419T183534
CREATED:20250104T185017Z
LAST-MODIFIED:20250929T115641Z
UID:10003240-1738170000-1738172700@dsabwp.azurewebsites.net
SUMMARY:Leaps and Sounds ages 5-10
DESCRIPTION:A music therapy group for all incorporating music and movement! This class is open to siblings
URL:https://dsabwp.azurewebsites.net/event/leaps-and-sounds-ages-5-10/2025-01-29/
LOCATION:Florida Music Therapy Center\, 1906 Platt Street\, Melbourne\, 32901\, United States
END:VEVENT
BEGIN:VEVENT
DTSTART;TZID=America/New_York:20250123T160000
DTEND;TZID=America/New_York:20250123T164500
DTSTAMP:20260419T183534
CREATED:20250104T184821Z
LAST-MODIFIED:20250929T115516Z
UID:10003149-1737648000-1737650700@dsabwp.azurewebsites.net
SUMMARY:Little Melodies ages 0-4
DESCRIPTION:Music Therapy for all abilities incorporating music and developmental goals! This class is open to siblings
URL:https://dsabwp.azurewebsites.net/event/little-melodies-ages-0-4/2025-01-23/
LOCATION:Florida Music Therapy Center\, 1906 Platt Street\, Melbourne\, 32901\, United States
END:VEVENT
BEGIN:VEVENT
DTSTART;TZID=America/New_York:20250122T170000
DTEND;TZID=America/New_York:20250122T180000
DTSTAMP:20260419T183534
CREATED:20250104T185201Z
LAST-MODIFIED:20250929T115602Z
UID:10003284-1737565200-1737568800@dsabwp.azurewebsites.net
SUMMARY:Music Meet Up Ages 11+
DESCRIPTION:A music therapy group for all incorporating music and movement! This class is closed to siblings.
URL:https://dsabwp.azurewebsites.net/event/music-meet-up-ages-11/2025-01-22/
LOCATION:Florida Music Therapy Center\, 1906 Platt Street\, Melbourne\, 32901\, United States
END:VEVENT
BEGIN:VEVENT
DTSTART;TZID=America/New_York:20250122T170000
DTEND;TZID=America/New_York:20250122T174500
DTSTAMP:20260419T183534
CREATED:20250104T185017Z
LAST-MODIFIED:20250929T115641Z
UID:10003239-1737565200-1737567900@dsabwp.azurewebsites.net
SUMMARY:Leaps and Sounds ages 5-10
DESCRIPTION:A music therapy group for all incorporating music and movement! This class is open to siblings
URL:https://dsabwp.azurewebsites.net/event/leaps-and-sounds-ages-5-10/2025-01-22/
LOCATION:Florida Music Therapy Center\, 1906 Platt Street\, Melbourne\, 32901\, United States
END:VEVENT
BEGIN:VEVENT
DTSTART;TZID=America/New_York:20250116T160000
DTEND;TZID=America/New_York:20250116T164500
DTSTAMP:20260419T183534
CREATED:20250104T184821Z
LAST-MODIFIED:20250929T115516Z
UID:10003148-1737043200-1737045900@dsabwp.azurewebsites.net
SUMMARY:Little Melodies ages 0-4
DESCRIPTION:Music Therapy for all abilities incorporating music and developmental goals! This class is open to siblings
URL:https://dsabwp.azurewebsites.net/event/little-melodies-ages-0-4/2025-01-16/
LOCATION:Florida Music Therapy Center\, 1906 Platt Street\, Melbourne\, 32901\, United States
END:VEVENT
BEGIN:VEVENT
DTSTART;TZID=America/New_York:20250115T170000
DTEND;TZID=America/New_York:20250115T180000
DTSTAMP:20260419T183534
CREATED:20250104T185201Z
LAST-MODIFIED:20250929T115602Z
UID:10003283-1736960400-1736964000@dsabwp.azurewebsites.net
SUMMARY:Music Meet Up Ages 11+
DESCRIPTION:A music therapy group for all incorporating music and movement! This class is closed to siblings.
URL:https://dsabwp.azurewebsites.net/event/music-meet-up-ages-11/2025-01-15/
LOCATION:Florida Music Therapy Center\, 1906 Platt Street\, Melbourne\, 32901\, United States
END:VEVENT
BEGIN:VEVENT
DTSTART;TZID=America/New_York:20250115T170000
DTEND;TZID=America/New_York:20250115T174500
DTSTAMP:20260419T183534
CREATED:20250104T185017Z
LAST-MODIFIED:20250929T115641Z
UID:10003238-1736960400-1736963100@dsabwp.azurewebsites.net
SUMMARY:Leaps and Sounds ages 5-10
DESCRIPTION:A music therapy group for all incorporating music and movement! This class is open to siblings
URL:https://dsabwp.azurewebsites.net/event/leaps-and-sounds-ages-5-10/2025-01-15/
LOCATION:Florida Music Therapy Center\, 1906 Platt Street\, Melbourne\, 32901\, United States
END:VEVENT
BEGIN:VEVENT
DTSTART;TZID=America/New_York:20250109T160000
DTEND;TZID=America/New_York:20250109T164500
DTSTAMP:20260419T183534
CREATED:20250104T184821Z
LAST-MODIFIED:20250929T115516Z
UID:10003147-1736438400-1736441100@dsabwp.azurewebsites.net
SUMMARY:Little Melodies ages 0-4
DESCRIPTION:Music Therapy for all abilities incorporating music and developmental goals! This class is open to siblings
URL:https://dsabwp.azurewebsites.net/event/little-melodies-ages-0-4/2025-01-09/
LOCATION:Florida Music Therapy Center\, 1906 Platt Street\, Melbourne\, 32901\, United States
END:VEVENT
BEGIN:VEVENT
DTSTART;TZID=America/New_York:20250108T170000
DTEND;TZID=America/New_York:20250108T180000
DTSTAMP:20260419T183534
CREATED:20250104T185201Z
LAST-MODIFIED:20250929T115602Z
UID:10003282-1736355600-1736359200@dsabwp.azurewebsites.net
SUMMARY:Music Meet Up Ages 11+
DESCRIPTION:A music therapy group for all incorporating music and movement! This class is closed to siblings.
URL:https://dsabwp.azurewebsites.net/event/music-meet-up-ages-11/2025-01-08/
LOCATION:Florida Music Therapy Center\, 1906 Platt Street\, Melbourne\, 32901\, United States
END:VEVENT
BEGIN:VEVENT
DTSTART;TZID=America/New_York:20250108T170000
DTEND;TZID=America/New_York:20250108T174500
DTSTAMP:20260419T183534
CREATED:20250104T185017Z
LAST-MODIFIED:20250929T115641Z
UID:10003237-1736355600-1736358300@dsabwp.azurewebsites.net
SUMMARY:Leaps and Sounds ages 5-10
DESCRIPTION:A music therapy group for all incorporating music and movement! This class is open to siblings
URL:https://dsabwp.azurewebsites.net/event/leaps-and-sounds-ages-5-10/2025-01-08/
LOCATION:Florida Music Therapy Center\, 1906 Platt Street\, Melbourne\, 32901\, United States
END:VEVENT
END:VCALENDAR