BEGIN:VCALENDAR
VERSION:2.0
PRODID:-//Down Syndrome Association of Brevard - ECPv6.15.20//NONSGML v1.0//EN
CALSCALE:GREGORIAN
METHOD:PUBLISH
X-ORIGINAL-URL:https://dsabwp.azurewebsites.net
X-WR-CALDESC:Events for Down Syndrome Association of Brevard
REFRESH-INTERVAL;VALUE=DURATION:PT1H
X-Robots-Tag:noindex
X-PUBLISHED-TTL:PT1H
BEGIN:VTIMEZONE
TZID:America/New_York
BEGIN:DAYLIGHT
TZOFFSETFROM:-0500
TZOFFSETTO:-0400
TZNAME:EDT
DTSTART:20240310T070000
END:DAYLIGHT
BEGIN:STANDARD
TZOFFSETFROM:-0400
TZOFFSETTO:-0500
TZNAME:EST
DTSTART:20241103T060000
END:STANDARD
BEGIN:DAYLIGHT
TZOFFSETFROM:-0500
TZOFFSETTO:-0400
TZNAME:EDT
DTSTART:20250309T070000
END:DAYLIGHT
BEGIN:STANDARD
TZOFFSETFROM:-0400
TZOFFSETTO:-0500
TZNAME:EST
DTSTART:20251102T060000
END:STANDARD
BEGIN:DAYLIGHT
TZOFFSETFROM:-0500
TZOFFSETTO:-0400
TZNAME:EDT
DTSTART:20260308T070000
END:DAYLIGHT
BEGIN:STANDARD
TZOFFSETFROM:-0400
TZOFFSETTO:-0500
TZNAME:EST
DTSTART:20261101T060000
END:STANDARD
END:VTIMEZONE
BEGIN:VEVENT
DTSTART;TZID=America/New_York:20251009T160000
DTEND;TZID=America/New_York:20251009T164500
DTSTAMP:20260421T074001
CREATED:20250104T184821Z
LAST-MODIFIED:20250929T115516Z
UID:10003186-1760025600-1760028300@dsabwp.azurewebsites.net
SUMMARY:Little Melodies ages 0-4
DESCRIPTION:Music Therapy for all abilities incorporating music and developmental goals! This class is open to siblings
URL:https://dsabwp.azurewebsites.net/event/little-melodies-ages-0-4/2025-10-09/
LOCATION:Florida Music Therapy Center\, 1906 Platt Street\, Melbourne\, 32901\, United States
END:VEVENT
BEGIN:VEVENT
DTSTART;TZID=America/New_York:20251008T170000
DTEND;TZID=America/New_York:20251008T180000
DTSTAMP:20260421T074001
CREATED:20250104T185201Z
LAST-MODIFIED:20250929T115602Z
UID:10003321-1759942800-1759946400@dsabwp.azurewebsites.net
SUMMARY:Music Meet Up Ages 11+
DESCRIPTION:A music therapy group for all incorporating music and movement! This class is closed to siblings.
URL:https://dsabwp.azurewebsites.net/event/music-meet-up-ages-11/2025-10-08/
LOCATION:Florida Music Therapy Center\, 1906 Platt Street\, Melbourne\, 32901\, United States
END:VEVENT
BEGIN:VEVENT
DTSTART;TZID=America/New_York:20251008T170000
DTEND;TZID=America/New_York:20251008T174500
DTSTAMP:20260421T074001
CREATED:20250104T185017Z
LAST-MODIFIED:20250929T115641Z
UID:10003276-1759942800-1759945500@dsabwp.azurewebsites.net
SUMMARY:Leaps and Sounds ages 5-10
DESCRIPTION:A music therapy group for all incorporating music and movement! This class is open to siblings
URL:https://dsabwp.azurewebsites.net/event/leaps-and-sounds-ages-5-10/2025-10-08/
LOCATION:Florida Music Therapy Center\, 1906 Platt Street\, Melbourne\, 32901\, United States
END:VEVENT
BEGIN:VEVENT
DTSTART;TZID=America/New_York:20251002T160000
DTEND;TZID=America/New_York:20251002T164500
DTSTAMP:20260421T074001
CREATED:20250104T184821Z
LAST-MODIFIED:20250929T115516Z
UID:10003185-1759420800-1759423500@dsabwp.azurewebsites.net
SUMMARY:Little Melodies ages 0-4
DESCRIPTION:Music Therapy for all abilities incorporating music and developmental goals! This class is open to siblings
URL:https://dsabwp.azurewebsites.net/event/little-melodies-ages-0-4/2025-10-02/
LOCATION:Florida Music Therapy Center\, 1906 Platt Street\, Melbourne\, 32901\, United States
END:VEVENT
BEGIN:VEVENT
DTSTART;TZID=America/New_York:20251001T170000
DTEND;TZID=America/New_York:20251001T180000
DTSTAMP:20260421T074001
CREATED:20250104T185201Z
LAST-MODIFIED:20250929T115602Z
UID:10003320-1759338000-1759341600@dsabwp.azurewebsites.net
SUMMARY:Music Meet Up Ages 11+
DESCRIPTION:A music therapy group for all incorporating music and movement! This class is closed to siblings.
URL:https://dsabwp.azurewebsites.net/event/music-meet-up-ages-11/2025-10-01/
LOCATION:Florida Music Therapy Center\, 1906 Platt Street\, Melbourne\, 32901\, United States
END:VEVENT
BEGIN:VEVENT
DTSTART;TZID=America/New_York:20251001T170000
DTEND;TZID=America/New_York:20251001T174500
DTSTAMP:20260421T074001
CREATED:20250104T185017Z
LAST-MODIFIED:20250929T115641Z
UID:10003275-1759338000-1759340700@dsabwp.azurewebsites.net
SUMMARY:Leaps and Sounds ages 5-10
DESCRIPTION:A music therapy group for all incorporating music and movement! This class is open to siblings
URL:https://dsabwp.azurewebsites.net/event/leaps-and-sounds-ages-5-10/2025-10-01/
LOCATION:Florida Music Therapy Center\, 1906 Platt Street\, Melbourne\, 32901\, United States
END:VEVENT
BEGIN:VEVENT
DTSTART;TZID=America/New_York:20250925T160000
DTEND;TZID=America/New_York:20250925T164500
DTSTAMP:20260421T074001
CREATED:20250104T184821Z
LAST-MODIFIED:20250929T115516Z
UID:10003184-1758816000-1758818700@dsabwp.azurewebsites.net
SUMMARY:Little Melodies ages 0-4
DESCRIPTION:Music Therapy for all abilities incorporating music and developmental goals! This class is open to siblings
URL:https://dsabwp.azurewebsites.net/event/little-melodies-ages-0-4/2025-09-25/
LOCATION:Florida Music Therapy Center\, 1906 Platt Street\, Melbourne\, 32901\, United States
END:VEVENT
BEGIN:VEVENT
DTSTART;TZID=America/New_York:20250924T170000
DTEND;TZID=America/New_York:20250924T180000
DTSTAMP:20260421T074001
CREATED:20250104T185201Z
LAST-MODIFIED:20250929T115602Z
UID:10003319-1758733200-1758736800@dsabwp.azurewebsites.net
SUMMARY:Music Meet Up Ages 11+
DESCRIPTION:A music therapy group for all incorporating music and movement! This class is closed to siblings.
URL:https://dsabwp.azurewebsites.net/event/music-meet-up-ages-11/2025-09-24/
LOCATION:Florida Music Therapy Center\, 1906 Platt Street\, Melbourne\, 32901\, United States
END:VEVENT
BEGIN:VEVENT
DTSTART;TZID=America/New_York:20250924T170000
DTEND;TZID=America/New_York:20250924T174500
DTSTAMP:20260421T074001
CREATED:20250104T185017Z
LAST-MODIFIED:20250929T115641Z
UID:10003274-1758733200-1758735900@dsabwp.azurewebsites.net
SUMMARY:Leaps and Sounds ages 5-10
DESCRIPTION:A music therapy group for all incorporating music and movement! This class is open to siblings
URL:https://dsabwp.azurewebsites.net/event/leaps-and-sounds-ages-5-10/2025-09-24/
LOCATION:Florida Music Therapy Center\, 1906 Platt Street\, Melbourne\, 32901\, United States
END:VEVENT
BEGIN:VEVENT
DTSTART;TZID=America/New_York:20250918T160000
DTEND;TZID=America/New_York:20250918T164500
DTSTAMP:20260421T074001
CREATED:20250104T184821Z
LAST-MODIFIED:20250929T115516Z
UID:10003183-1758211200-1758213900@dsabwp.azurewebsites.net
SUMMARY:Little Melodies ages 0-4
DESCRIPTION:Music Therapy for all abilities incorporating music and developmental goals! This class is open to siblings
URL:https://dsabwp.azurewebsites.net/event/little-melodies-ages-0-4/2025-09-18/
LOCATION:Florida Music Therapy Center\, 1906 Platt Street\, Melbourne\, 32901\, United States
END:VEVENT
BEGIN:VEVENT
DTSTART;TZID=America/New_York:20250917T170000
DTEND;TZID=America/New_York:20250917T180000
DTSTAMP:20260421T074001
CREATED:20250104T185201Z
LAST-MODIFIED:20250929T115602Z
UID:10003318-1758128400-1758132000@dsabwp.azurewebsites.net
SUMMARY:Music Meet Up Ages 11+
DESCRIPTION:A music therapy group for all incorporating music and movement! This class is closed to siblings.
URL:https://dsabwp.azurewebsites.net/event/music-meet-up-ages-11/2025-09-17/
LOCATION:Florida Music Therapy Center\, 1906 Platt Street\, Melbourne\, 32901\, United States
END:VEVENT
BEGIN:VEVENT
DTSTART;TZID=America/New_York:20250917T170000
DTEND;TZID=America/New_York:20250917T174500
DTSTAMP:20260421T074001
CREATED:20250104T185017Z
LAST-MODIFIED:20250929T115641Z
UID:10003273-1758128400-1758131100@dsabwp.azurewebsites.net
SUMMARY:Leaps and Sounds ages 5-10
DESCRIPTION:A music therapy group for all incorporating music and movement! This class is open to siblings
URL:https://dsabwp.azurewebsites.net/event/leaps-and-sounds-ages-5-10/2025-09-17/
LOCATION:Florida Music Therapy Center\, 1906 Platt Street\, Melbourne\, 32901\, United States
END:VEVENT
BEGIN:VEVENT
DTSTART;TZID=America/New_York:20250911T160000
DTEND;TZID=America/New_York:20250911T164500
DTSTAMP:20260421T074001
CREATED:20250104T184821Z
LAST-MODIFIED:20250929T115516Z
UID:10003182-1757606400-1757609100@dsabwp.azurewebsites.net
SUMMARY:Little Melodies ages 0-4
DESCRIPTION:Music Therapy for all abilities incorporating music and developmental goals! This class is open to siblings
URL:https://dsabwp.azurewebsites.net/event/little-melodies-ages-0-4/2025-09-11/
LOCATION:Florida Music Therapy Center\, 1906 Platt Street\, Melbourne\, 32901\, United States
END:VEVENT
BEGIN:VEVENT
DTSTART;TZID=America/New_York:20250910T170000
DTEND;TZID=America/New_York:20250910T180000
DTSTAMP:20260421T074001
CREATED:20250104T185201Z
LAST-MODIFIED:20250929T115602Z
UID:10003317-1757523600-1757527200@dsabwp.azurewebsites.net
SUMMARY:Music Meet Up Ages 11+
DESCRIPTION:A music therapy group for all incorporating music and movement! This class is closed to siblings.
URL:https://dsabwp.azurewebsites.net/event/music-meet-up-ages-11/2025-09-10/
LOCATION:Florida Music Therapy Center\, 1906 Platt Street\, Melbourne\, 32901\, United States
END:VEVENT
BEGIN:VEVENT
DTSTART;TZID=America/New_York:20250910T170000
DTEND;TZID=America/New_York:20250910T174500
DTSTAMP:20260421T074001
CREATED:20250104T185017Z
LAST-MODIFIED:20250929T115641Z
UID:10003272-1757523600-1757526300@dsabwp.azurewebsites.net
SUMMARY:Leaps and Sounds ages 5-10
DESCRIPTION:A music therapy group for all incorporating music and movement! This class is open to siblings
URL:https://dsabwp.azurewebsites.net/event/leaps-and-sounds-ages-5-10/2025-09-10/
LOCATION:Florida Music Therapy Center\, 1906 Platt Street\, Melbourne\, 32901\, United States
END:VEVENT
BEGIN:VEVENT
DTSTART;TZID=America/New_York:20250904T160000
DTEND;TZID=America/New_York:20250904T164500
DTSTAMP:20260421T074001
CREATED:20250104T184821Z
LAST-MODIFIED:20250929T115516Z
UID:10003181-1757001600-1757004300@dsabwp.azurewebsites.net
SUMMARY:Little Melodies ages 0-4
DESCRIPTION:Music Therapy for all abilities incorporating music and developmental goals! This class is open to siblings
URL:https://dsabwp.azurewebsites.net/event/little-melodies-ages-0-4/2025-09-04/
LOCATION:Florida Music Therapy Center\, 1906 Platt Street\, Melbourne\, 32901\, United States
END:VEVENT
BEGIN:VEVENT
DTSTART;TZID=America/New_York:20250903T170000
DTEND;TZID=America/New_York:20250903T180000
DTSTAMP:20260421T074001
CREATED:20250104T185201Z
LAST-MODIFIED:20250929T115602Z
UID:10003316-1756918800-1756922400@dsabwp.azurewebsites.net
SUMMARY:Music Meet Up Ages 11+
DESCRIPTION:A music therapy group for all incorporating music and movement! This class is closed to siblings.
URL:https://dsabwp.azurewebsites.net/event/music-meet-up-ages-11/2025-09-03/
LOCATION:Florida Music Therapy Center\, 1906 Platt Street\, Melbourne\, 32901\, United States
END:VEVENT
BEGIN:VEVENT
DTSTART;TZID=America/New_York:20250903T170000
DTEND;TZID=America/New_York:20250903T174500
DTSTAMP:20260421T074001
CREATED:20250104T185017Z
LAST-MODIFIED:20250929T115641Z
UID:10003271-1756918800-1756921500@dsabwp.azurewebsites.net
SUMMARY:Leaps and Sounds ages 5-10
DESCRIPTION:A music therapy group for all incorporating music and movement! This class is open to siblings
URL:https://dsabwp.azurewebsites.net/event/leaps-and-sounds-ages-5-10/2025-09-03/
LOCATION:Florida Music Therapy Center\, 1906 Platt Street\, Melbourne\, 32901\, United States
END:VEVENT
BEGIN:VEVENT
DTSTART;TZID=America/New_York:20250828T160000
DTEND;TZID=America/New_York:20250828T164500
DTSTAMP:20260421T074001
CREATED:20250104T184821Z
LAST-MODIFIED:20250929T115516Z
UID:10003180-1756396800-1756399500@dsabwp.azurewebsites.net
SUMMARY:Little Melodies ages 0-4
DESCRIPTION:Music Therapy for all abilities incorporating music and developmental goals! This class is open to siblings
URL:https://dsabwp.azurewebsites.net/event/little-melodies-ages-0-4/2025-08-28/
LOCATION:Florida Music Therapy Center\, 1906 Platt Street\, Melbourne\, 32901\, United States
END:VEVENT
BEGIN:VEVENT
DTSTART;TZID=America/New_York:20250827T170000
DTEND;TZID=America/New_York:20250827T180000
DTSTAMP:20260421T074001
CREATED:20250104T185201Z
LAST-MODIFIED:20250929T115602Z
UID:10003315-1756314000-1756317600@dsabwp.azurewebsites.net
SUMMARY:Music Meet Up Ages 11+
DESCRIPTION:A music therapy group for all incorporating music and movement! This class is closed to siblings.
URL:https://dsabwp.azurewebsites.net/event/music-meet-up-ages-11/2025-08-27/
LOCATION:Florida Music Therapy Center\, 1906 Platt Street\, Melbourne\, 32901\, United States
END:VEVENT
BEGIN:VEVENT
DTSTART;TZID=America/New_York:20250827T170000
DTEND;TZID=America/New_York:20250827T174500
DTSTAMP:20260421T074001
CREATED:20250104T185017Z
LAST-MODIFIED:20250929T115641Z
UID:10003270-1756314000-1756316700@dsabwp.azurewebsites.net
SUMMARY:Leaps and Sounds ages 5-10
DESCRIPTION:A music therapy group for all incorporating music and movement! This class is open to siblings
URL:https://dsabwp.azurewebsites.net/event/leaps-and-sounds-ages-5-10/2025-08-27/
LOCATION:Florida Music Therapy Center\, 1906 Platt Street\, Melbourne\, 32901\, United States
END:VEVENT
BEGIN:VEVENT
DTSTART;TZID=America/New_York:20250821T160000
DTEND;TZID=America/New_York:20250821T164500
DTSTAMP:20260421T074001
CREATED:20250104T184821Z
LAST-MODIFIED:20250929T115516Z
UID:10003179-1755792000-1755794700@dsabwp.azurewebsites.net
SUMMARY:Little Melodies ages 0-4
DESCRIPTION:Music Therapy for all abilities incorporating music and developmental goals! This class is open to siblings
URL:https://dsabwp.azurewebsites.net/event/little-melodies-ages-0-4/2025-08-21/
LOCATION:Florida Music Therapy Center\, 1906 Platt Street\, Melbourne\, 32901\, United States
END:VEVENT
BEGIN:VEVENT
DTSTART;TZID=America/New_York:20250820T170000
DTEND;TZID=America/New_York:20250820T180000
DTSTAMP:20260421T074001
CREATED:20250104T185201Z
LAST-MODIFIED:20250929T115602Z
UID:10003314-1755709200-1755712800@dsabwp.azurewebsites.net
SUMMARY:Music Meet Up Ages 11+
DESCRIPTION:A music therapy group for all incorporating music and movement! This class is closed to siblings.
URL:https://dsabwp.azurewebsites.net/event/music-meet-up-ages-11/2025-08-20/
LOCATION:Florida Music Therapy Center\, 1906 Platt Street\, Melbourne\, 32901\, United States
END:VEVENT
BEGIN:VEVENT
DTSTART;TZID=America/New_York:20250820T170000
DTEND;TZID=America/New_York:20250820T174500
DTSTAMP:20260421T074001
CREATED:20250104T185017Z
LAST-MODIFIED:20250929T115641Z
UID:10003269-1755709200-1755711900@dsabwp.azurewebsites.net
SUMMARY:Leaps and Sounds ages 5-10
DESCRIPTION:A music therapy group for all incorporating music and movement! This class is open to siblings
URL:https://dsabwp.azurewebsites.net/event/leaps-and-sounds-ages-5-10/2025-08-20/
LOCATION:Florida Music Therapy Center\, 1906 Platt Street\, Melbourne\, 32901\, United States
END:VEVENT
BEGIN:VEVENT
DTSTART;TZID=America/New_York:20250814T160000
DTEND;TZID=America/New_York:20250814T164500
DTSTAMP:20260421T074001
CREATED:20250104T184821Z
LAST-MODIFIED:20250929T115516Z
UID:10003178-1755187200-1755189900@dsabwp.azurewebsites.net
SUMMARY:Little Melodies ages 0-4
DESCRIPTION:Music Therapy for all abilities incorporating music and developmental goals! This class is open to siblings
URL:https://dsabwp.azurewebsites.net/event/little-melodies-ages-0-4/2025-08-14/
LOCATION:Florida Music Therapy Center\, 1906 Platt Street\, Melbourne\, 32901\, United States
END:VEVENT
BEGIN:VEVENT
DTSTART;TZID=America/New_York:20250813T170000
DTEND;TZID=America/New_York:20250813T180000
DTSTAMP:20260421T074001
CREATED:20250104T185201Z
LAST-MODIFIED:20250929T115602Z
UID:10003313-1755104400-1755108000@dsabwp.azurewebsites.net
SUMMARY:Music Meet Up Ages 11+
DESCRIPTION:A music therapy group for all incorporating music and movement! This class is closed to siblings.
URL:https://dsabwp.azurewebsites.net/event/music-meet-up-ages-11/2025-08-13/
LOCATION:Florida Music Therapy Center\, 1906 Platt Street\, Melbourne\, 32901\, United States
END:VEVENT
BEGIN:VEVENT
DTSTART;TZID=America/New_York:20250813T170000
DTEND;TZID=America/New_York:20250813T174500
DTSTAMP:20260421T074001
CREATED:20250104T185017Z
LAST-MODIFIED:20250929T115641Z
UID:10003268-1755104400-1755107100@dsabwp.azurewebsites.net
SUMMARY:Leaps and Sounds ages 5-10
DESCRIPTION:A music therapy group for all incorporating music and movement! This class is open to siblings
URL:https://dsabwp.azurewebsites.net/event/leaps-and-sounds-ages-5-10/2025-08-13/
LOCATION:Florida Music Therapy Center\, 1906 Platt Street\, Melbourne\, 32901\, United States
END:VEVENT
BEGIN:VEVENT
DTSTART;TZID=America/New_York:20250807T160000
DTEND;TZID=America/New_York:20250807T164500
DTSTAMP:20260421T074001
CREATED:20250104T184821Z
LAST-MODIFIED:20250929T115516Z
UID:10003177-1754582400-1754585100@dsabwp.azurewebsites.net
SUMMARY:Little Melodies ages 0-4
DESCRIPTION:Music Therapy for all abilities incorporating music and developmental goals! This class is open to siblings
URL:https://dsabwp.azurewebsites.net/event/little-melodies-ages-0-4/2025-08-07/
LOCATION:Florida Music Therapy Center\, 1906 Platt Street\, Melbourne\, 32901\, United States
END:VEVENT
BEGIN:VEVENT
DTSTART;TZID=America/New_York:20250806T170000
DTEND;TZID=America/New_York:20250806T180000
DTSTAMP:20260421T074001
CREATED:20250104T185201Z
LAST-MODIFIED:20250929T115602Z
UID:10003312-1754499600-1754503200@dsabwp.azurewebsites.net
SUMMARY:Music Meet Up Ages 11+
DESCRIPTION:A music therapy group for all incorporating music and movement! This class is closed to siblings.
URL:https://dsabwp.azurewebsites.net/event/music-meet-up-ages-11/2025-08-06/
LOCATION:Florida Music Therapy Center\, 1906 Platt Street\, Melbourne\, 32901\, United States
END:VEVENT
BEGIN:VEVENT
DTSTART;TZID=America/New_York:20250806T170000
DTEND;TZID=America/New_York:20250806T174500
DTSTAMP:20260421T074001
CREATED:20250104T185017Z
LAST-MODIFIED:20250929T115641Z
UID:10003267-1754499600-1754502300@dsabwp.azurewebsites.net
SUMMARY:Leaps and Sounds ages 5-10
DESCRIPTION:A music therapy group for all incorporating music and movement! This class is open to siblings
URL:https://dsabwp.azurewebsites.net/event/leaps-and-sounds-ages-5-10/2025-08-06/
LOCATION:Florida Music Therapy Center\, 1906 Platt Street\, Melbourne\, 32901\, United States
END:VEVENT
END:VCALENDAR