BEGIN:VCALENDAR
VERSION:2.0
PRODID:-//Down Syndrome Association of Brevard - ECPv6.15.20//NONSGML v1.0//EN
CALSCALE:GREGORIAN
METHOD:PUBLISH
X-WR-CALNAME:Down Syndrome Association of Brevard
X-ORIGINAL-URL:https://dsabwp.azurewebsites.net
X-WR-CALDESC:Events for Down Syndrome Association of Brevard
REFRESH-INTERVAL;VALUE=DURATION:PT1H
X-Robots-Tag:noindex
X-PUBLISHED-TTL:PT1H
BEGIN:VTIMEZONE
TZID:America/New_York
BEGIN:DAYLIGHT
TZOFFSETFROM:-0500
TZOFFSETTO:-0400
TZNAME:EDT
DTSTART:20240310T070000
END:DAYLIGHT
BEGIN:STANDARD
TZOFFSETFROM:-0400
TZOFFSETTO:-0500
TZNAME:EST
DTSTART:20241103T060000
END:STANDARD
BEGIN:DAYLIGHT
TZOFFSETFROM:-0500
TZOFFSETTO:-0400
TZNAME:EDT
DTSTART:20250309T070000
END:DAYLIGHT
BEGIN:STANDARD
TZOFFSETFROM:-0400
TZOFFSETTO:-0500
TZNAME:EST
DTSTART:20251102T060000
END:STANDARD
BEGIN:DAYLIGHT
TZOFFSETFROM:-0500
TZOFFSETTO:-0400
TZNAME:EDT
DTSTART:20260308T070000
END:DAYLIGHT
BEGIN:STANDARD
TZOFFSETFROM:-0400
TZOFFSETTO:-0500
TZNAME:EST
DTSTART:20261101T060000
END:STANDARD
END:VTIMEZONE
BEGIN:VEVENT
DTSTART;TZID=America/New_York:20250717T160000
DTEND;TZID=America/New_York:20250717T164500
DTSTAMP:20260419T094646
CREATED:20250104T184821Z
LAST-MODIFIED:20250929T115516Z
UID:10003174-1752768000-1752770700@dsabwp.azurewebsites.net
SUMMARY:Little Melodies ages 0-4
DESCRIPTION:Music Therapy for all abilities incorporating music and developmental goals! This class is open to siblings
URL:https://dsabwp.azurewebsites.net/event/little-melodies-ages-0-4/2025-07-17/
LOCATION:Florida Music Therapy Center\, 1906 Platt Street\, Melbourne\, 32901\, United States
END:VEVENT
BEGIN:VEVENT
DTSTART;TZID=America/New_York:20250716T170000
DTEND;TZID=America/New_York:20250716T180000
DTSTAMP:20260419T094646
CREATED:20250104T185201Z
LAST-MODIFIED:20250929T115602Z
UID:10003309-1752685200-1752688800@dsabwp.azurewebsites.net
SUMMARY:Music Meet Up Ages 11+
DESCRIPTION:A music therapy group for all incorporating music and movement! This class is closed to siblings.
URL:https://dsabwp.azurewebsites.net/event/music-meet-up-ages-11/2025-07-16/
LOCATION:Florida Music Therapy Center\, 1906 Platt Street\, Melbourne\, 32901\, United States
END:VEVENT
BEGIN:VEVENT
DTSTART;TZID=America/New_York:20250716T170000
DTEND;TZID=America/New_York:20250716T174500
DTSTAMP:20260419T094646
CREATED:20250104T185017Z
LAST-MODIFIED:20250929T115641Z
UID:10003264-1752685200-1752687900@dsabwp.azurewebsites.net
SUMMARY:Leaps and Sounds ages 5-10
DESCRIPTION:A music therapy group for all incorporating music and movement! This class is open to siblings
URL:https://dsabwp.azurewebsites.net/event/leaps-and-sounds-ages-5-10/2025-07-16/
LOCATION:Florida Music Therapy Center\, 1906 Platt Street\, Melbourne\, 32901\, United States
END:VEVENT
BEGIN:VEVENT
DTSTART;TZID=America/New_York:20250710T160000
DTEND;TZID=America/New_York:20250710T164500
DTSTAMP:20260419T094646
CREATED:20250104T184821Z
LAST-MODIFIED:20250929T115516Z
UID:10003173-1752163200-1752165900@dsabwp.azurewebsites.net
SUMMARY:Little Melodies ages 0-4
DESCRIPTION:Music Therapy for all abilities incorporating music and developmental goals! This class is open to siblings
URL:https://dsabwp.azurewebsites.net/event/little-melodies-ages-0-4/2025-07-10/
LOCATION:Florida Music Therapy Center\, 1906 Platt Street\, Melbourne\, 32901\, United States
END:VEVENT
BEGIN:VEVENT
DTSTART;TZID=America/New_York:20250709T170000
DTEND;TZID=America/New_York:20250709T180000
DTSTAMP:20260419T094646
CREATED:20250104T185201Z
LAST-MODIFIED:20250929T115602Z
UID:10003308-1752080400-1752084000@dsabwp.azurewebsites.net
SUMMARY:Music Meet Up Ages 11+
DESCRIPTION:A music therapy group for all incorporating music and movement! This class is closed to siblings.
URL:https://dsabwp.azurewebsites.net/event/music-meet-up-ages-11/2025-07-09/
LOCATION:Florida Music Therapy Center\, 1906 Platt Street\, Melbourne\, 32901\, United States
END:VEVENT
BEGIN:VEVENT
DTSTART;TZID=America/New_York:20250709T170000
DTEND;TZID=America/New_York:20250709T174500
DTSTAMP:20260419T094646
CREATED:20250104T185017Z
LAST-MODIFIED:20250929T115641Z
UID:10003263-1752080400-1752083100@dsabwp.azurewebsites.net
SUMMARY:Leaps and Sounds ages 5-10
DESCRIPTION:A music therapy group for all incorporating music and movement! This class is open to siblings
URL:https://dsabwp.azurewebsites.net/event/leaps-and-sounds-ages-5-10/2025-07-09/
LOCATION:Florida Music Therapy Center\, 1906 Platt Street\, Melbourne\, 32901\, United States
END:VEVENT
BEGIN:VEVENT
DTSTART;TZID=America/New_York:20250703T160000
DTEND;TZID=America/New_York:20250703T164500
DTSTAMP:20260419T094646
CREATED:20250104T184821Z
LAST-MODIFIED:20250929T115516Z
UID:10003172-1751558400-1751561100@dsabwp.azurewebsites.net
SUMMARY:Little Melodies ages 0-4
DESCRIPTION:Music Therapy for all abilities incorporating music and developmental goals! This class is open to siblings
URL:https://dsabwp.azurewebsites.net/event/little-melodies-ages-0-4/2025-07-03/
LOCATION:Florida Music Therapy Center\, 1906 Platt Street\, Melbourne\, 32901\, United States
END:VEVENT
BEGIN:VEVENT
DTSTART;TZID=America/New_York:20250702T170000
DTEND;TZID=America/New_York:20250702T180000
DTSTAMP:20260419T094646
CREATED:20250104T185201Z
LAST-MODIFIED:20250929T115602Z
UID:10003307-1751475600-1751479200@dsabwp.azurewebsites.net
SUMMARY:Music Meet Up Ages 11+
DESCRIPTION:A music therapy group for all incorporating music and movement! This class is closed to siblings.
URL:https://dsabwp.azurewebsites.net/event/music-meet-up-ages-11/2025-07-02/
LOCATION:Florida Music Therapy Center\, 1906 Platt Street\, Melbourne\, 32901\, United States
END:VEVENT
BEGIN:VEVENT
DTSTART;TZID=America/New_York:20250702T170000
DTEND;TZID=America/New_York:20250702T174500
DTSTAMP:20260419T094646
CREATED:20250104T185017Z
LAST-MODIFIED:20250929T115641Z
UID:10003262-1751475600-1751478300@dsabwp.azurewebsites.net
SUMMARY:Leaps and Sounds ages 5-10
DESCRIPTION:A music therapy group for all incorporating music and movement! This class is open to siblings
URL:https://dsabwp.azurewebsites.net/event/leaps-and-sounds-ages-5-10/2025-07-02/
LOCATION:Florida Music Therapy Center\, 1906 Platt Street\, Melbourne\, 32901\, United States
END:VEVENT
BEGIN:VEVENT
DTSTART;TZID=America/New_York:20250626T160000
DTEND;TZID=America/New_York:20250626T164500
DTSTAMP:20260419T094646
CREATED:20250104T184821Z
LAST-MODIFIED:20250929T115516Z
UID:10003171-1750953600-1750956300@dsabwp.azurewebsites.net
SUMMARY:Little Melodies ages 0-4
DESCRIPTION:Music Therapy for all abilities incorporating music and developmental goals! This class is open to siblings
URL:https://dsabwp.azurewebsites.net/event/little-melodies-ages-0-4/2025-06-26/
LOCATION:Florida Music Therapy Center\, 1906 Platt Street\, Melbourne\, 32901\, United States
END:VEVENT
BEGIN:VEVENT
DTSTART;TZID=America/New_York:20250625T170000
DTEND;TZID=America/New_York:20250625T180000
DTSTAMP:20260419T094646
CREATED:20250104T185201Z
LAST-MODIFIED:20250929T115602Z
UID:10003306-1750870800-1750874400@dsabwp.azurewebsites.net
SUMMARY:Music Meet Up Ages 11+
DESCRIPTION:A music therapy group for all incorporating music and movement! This class is closed to siblings.
URL:https://dsabwp.azurewebsites.net/event/music-meet-up-ages-11/2025-06-25/
LOCATION:Florida Music Therapy Center\, 1906 Platt Street\, Melbourne\, 32901\, United States
END:VEVENT
BEGIN:VEVENT
DTSTART;TZID=America/New_York:20250625T170000
DTEND;TZID=America/New_York:20250625T174500
DTSTAMP:20260419T094646
CREATED:20250104T185017Z
LAST-MODIFIED:20250929T115641Z
UID:10003261-1750870800-1750873500@dsabwp.azurewebsites.net
SUMMARY:Leaps and Sounds ages 5-10
DESCRIPTION:A music therapy group for all incorporating music and movement! This class is open to siblings
URL:https://dsabwp.azurewebsites.net/event/leaps-and-sounds-ages-5-10/2025-06-25/
LOCATION:Florida Music Therapy Center\, 1906 Platt Street\, Melbourne\, 32901\, United States
END:VEVENT
BEGIN:VEVENT
DTSTART;TZID=America/New_York:20250619T160000
DTEND;TZID=America/New_York:20250619T164500
DTSTAMP:20260419T094646
CREATED:20250104T184821Z
LAST-MODIFIED:20250929T115516Z
UID:10003170-1750348800-1750351500@dsabwp.azurewebsites.net
SUMMARY:Little Melodies ages 0-4
DESCRIPTION:Music Therapy for all abilities incorporating music and developmental goals! This class is open to siblings
URL:https://dsabwp.azurewebsites.net/event/little-melodies-ages-0-4/2025-06-19/
LOCATION:Florida Music Therapy Center\, 1906 Platt Street\, Melbourne\, 32901\, United States
END:VEVENT
BEGIN:VEVENT
DTSTART;TZID=America/New_York:20250618T170000
DTEND;TZID=America/New_York:20250618T180000
DTSTAMP:20260419T094646
CREATED:20250104T185201Z
LAST-MODIFIED:20250929T115602Z
UID:10003305-1750266000-1750269600@dsabwp.azurewebsites.net
SUMMARY:Music Meet Up Ages 11+
DESCRIPTION:A music therapy group for all incorporating music and movement! This class is closed to siblings.
URL:https://dsabwp.azurewebsites.net/event/music-meet-up-ages-11/2025-06-18/
LOCATION:Florida Music Therapy Center\, 1906 Platt Street\, Melbourne\, 32901\, United States
END:VEVENT
BEGIN:VEVENT
DTSTART;TZID=America/New_York:20250618T170000
DTEND;TZID=America/New_York:20250618T174500
DTSTAMP:20260419T094646
CREATED:20250104T185017Z
LAST-MODIFIED:20250929T115641Z
UID:10003260-1750266000-1750268700@dsabwp.azurewebsites.net
SUMMARY:Leaps and Sounds ages 5-10
DESCRIPTION:A music therapy group for all incorporating music and movement! This class is open to siblings
URL:https://dsabwp.azurewebsites.net/event/leaps-and-sounds-ages-5-10/2025-06-18/
LOCATION:Florida Music Therapy Center\, 1906 Platt Street\, Melbourne\, 32901\, United States
END:VEVENT
BEGIN:VEVENT
DTSTART;TZID=America/New_York:20250612T160000
DTEND;TZID=America/New_York:20250612T164500
DTSTAMP:20260419T094646
CREATED:20250104T184821Z
LAST-MODIFIED:20250929T115516Z
UID:10003169-1749744000-1749746700@dsabwp.azurewebsites.net
SUMMARY:Little Melodies ages 0-4
DESCRIPTION:Music Therapy for all abilities incorporating music and developmental goals! This class is open to siblings
URL:https://dsabwp.azurewebsites.net/event/little-melodies-ages-0-4/2025-06-12/
LOCATION:Florida Music Therapy Center\, 1906 Platt Street\, Melbourne\, 32901\, United States
END:VEVENT
BEGIN:VEVENT
DTSTART;TZID=America/New_York:20250611T170000
DTEND;TZID=America/New_York:20250611T180000
DTSTAMP:20260419T094646
CREATED:20250104T185201Z
LAST-MODIFIED:20250929T115602Z
UID:10003304-1749661200-1749664800@dsabwp.azurewebsites.net
SUMMARY:Music Meet Up Ages 11+
DESCRIPTION:A music therapy group for all incorporating music and movement! This class is closed to siblings.
URL:https://dsabwp.azurewebsites.net/event/music-meet-up-ages-11/2025-06-11/
LOCATION:Florida Music Therapy Center\, 1906 Platt Street\, Melbourne\, 32901\, United States
END:VEVENT
BEGIN:VEVENT
DTSTART;TZID=America/New_York:20250611T170000
DTEND;TZID=America/New_York:20250611T174500
DTSTAMP:20260419T094646
CREATED:20250104T185017Z
LAST-MODIFIED:20250929T115641Z
UID:10003259-1749661200-1749663900@dsabwp.azurewebsites.net
SUMMARY:Leaps and Sounds ages 5-10
DESCRIPTION:A music therapy group for all incorporating music and movement! This class is open to siblings
URL:https://dsabwp.azurewebsites.net/event/leaps-and-sounds-ages-5-10/2025-06-11/
LOCATION:Florida Music Therapy Center\, 1906 Platt Street\, Melbourne\, 32901\, United States
END:VEVENT
BEGIN:VEVENT
DTSTART;TZID=America/New_York:20250605T160000
DTEND;TZID=America/New_York:20250605T164500
DTSTAMP:20260419T094646
CREATED:20250104T184821Z
LAST-MODIFIED:20250929T115516Z
UID:10003168-1749139200-1749141900@dsabwp.azurewebsites.net
SUMMARY:Little Melodies ages 0-4
DESCRIPTION:Music Therapy for all abilities incorporating music and developmental goals! This class is open to siblings
URL:https://dsabwp.azurewebsites.net/event/little-melodies-ages-0-4/2025-06-05/
LOCATION:Florida Music Therapy Center\, 1906 Platt Street\, Melbourne\, 32901\, United States
END:VEVENT
BEGIN:VEVENT
DTSTART;TZID=America/New_York:20250604T170000
DTEND;TZID=America/New_York:20250604T180000
DTSTAMP:20260419T094646
CREATED:20250104T185201Z
LAST-MODIFIED:20250929T115602Z
UID:10003303-1749056400-1749060000@dsabwp.azurewebsites.net
SUMMARY:Music Meet Up Ages 11+
DESCRIPTION:A music therapy group for all incorporating music and movement! This class is closed to siblings.
URL:https://dsabwp.azurewebsites.net/event/music-meet-up-ages-11/2025-06-04/
LOCATION:Florida Music Therapy Center\, 1906 Platt Street\, Melbourne\, 32901\, United States
END:VEVENT
BEGIN:VEVENT
DTSTART;TZID=America/New_York:20250604T170000
DTEND;TZID=America/New_York:20250604T174500
DTSTAMP:20260419T094646
CREATED:20250104T185017Z
LAST-MODIFIED:20250929T115641Z
UID:10003258-1749056400-1749059100@dsabwp.azurewebsites.net
SUMMARY:Leaps and Sounds ages 5-10
DESCRIPTION:A music therapy group for all incorporating music and movement! This class is open to siblings
URL:https://dsabwp.azurewebsites.net/event/leaps-and-sounds-ages-5-10/2025-06-04/
LOCATION:Florida Music Therapy Center\, 1906 Platt Street\, Melbourne\, 32901\, United States
END:VEVENT
BEGIN:VEVENT
DTSTART;TZID=America/New_York:20250529T160000
DTEND;TZID=America/New_York:20250529T164500
DTSTAMP:20260419T094646
CREATED:20250104T184821Z
LAST-MODIFIED:20250929T115516Z
UID:10003167-1748534400-1748537100@dsabwp.azurewebsites.net
SUMMARY:Little Melodies ages 0-4
DESCRIPTION:Music Therapy for all abilities incorporating music and developmental goals! This class is open to siblings
URL:https://dsabwp.azurewebsites.net/event/little-melodies-ages-0-4/2025-05-29/
LOCATION:Florida Music Therapy Center\, 1906 Platt Street\, Melbourne\, 32901\, United States
END:VEVENT
BEGIN:VEVENT
DTSTART;TZID=America/New_York:20250528T170000
DTEND;TZID=America/New_York:20250528T180000
DTSTAMP:20260419T094646
CREATED:20250104T185201Z
LAST-MODIFIED:20250929T115602Z
UID:10003302-1748451600-1748455200@dsabwp.azurewebsites.net
SUMMARY:Music Meet Up Ages 11+
DESCRIPTION:A music therapy group for all incorporating music and movement! This class is closed to siblings.
URL:https://dsabwp.azurewebsites.net/event/music-meet-up-ages-11/2025-05-28/
LOCATION:Florida Music Therapy Center\, 1906 Platt Street\, Melbourne\, 32901\, United States
END:VEVENT
BEGIN:VEVENT
DTSTART;TZID=America/New_York:20250528T170000
DTEND;TZID=America/New_York:20250528T174500
DTSTAMP:20260419T094646
CREATED:20250104T185017Z
LAST-MODIFIED:20250929T115641Z
UID:10003257-1748451600-1748454300@dsabwp.azurewebsites.net
SUMMARY:Leaps and Sounds ages 5-10
DESCRIPTION:A music therapy group for all incorporating music and movement! This class is open to siblings
URL:https://dsabwp.azurewebsites.net/event/leaps-and-sounds-ages-5-10/2025-05-28/
LOCATION:Florida Music Therapy Center\, 1906 Platt Street\, Melbourne\, 32901\, United States
END:VEVENT
BEGIN:VEVENT
DTSTART;TZID=America/New_York:20250522T160000
DTEND;TZID=America/New_York:20250522T164500
DTSTAMP:20260419T094646
CREATED:20250104T184821Z
LAST-MODIFIED:20250929T115516Z
UID:10003166-1747929600-1747932300@dsabwp.azurewebsites.net
SUMMARY:Little Melodies ages 0-4
DESCRIPTION:Music Therapy for all abilities incorporating music and developmental goals! This class is open to siblings
URL:https://dsabwp.azurewebsites.net/event/little-melodies-ages-0-4/2025-05-22/
LOCATION:Florida Music Therapy Center\, 1906 Platt Street\, Melbourne\, 32901\, United States
END:VEVENT
BEGIN:VEVENT
DTSTART;TZID=America/New_York:20250521T170000
DTEND;TZID=America/New_York:20250521T180000
DTSTAMP:20260419T094646
CREATED:20250104T185201Z
LAST-MODIFIED:20250929T115602Z
UID:10003301-1747846800-1747850400@dsabwp.azurewebsites.net
SUMMARY:Music Meet Up Ages 11+
DESCRIPTION:A music therapy group for all incorporating music and movement! This class is closed to siblings.
URL:https://dsabwp.azurewebsites.net/event/music-meet-up-ages-11/2025-05-21/
LOCATION:Florida Music Therapy Center\, 1906 Platt Street\, Melbourne\, 32901\, United States
END:VEVENT
BEGIN:VEVENT
DTSTART;TZID=America/New_York:20250521T170000
DTEND;TZID=America/New_York:20250521T174500
DTSTAMP:20260419T094646
CREATED:20250104T185017Z
LAST-MODIFIED:20250929T115641Z
UID:10003256-1747846800-1747849500@dsabwp.azurewebsites.net
SUMMARY:Leaps and Sounds ages 5-10
DESCRIPTION:A music therapy group for all incorporating music and movement! This class is open to siblings
URL:https://dsabwp.azurewebsites.net/event/leaps-and-sounds-ages-5-10/2025-05-21/
LOCATION:Florida Music Therapy Center\, 1906 Platt Street\, Melbourne\, 32901\, United States
END:VEVENT
BEGIN:VEVENT
DTSTART;TZID=America/New_York:20250515T160000
DTEND;TZID=America/New_York:20250515T164500
DTSTAMP:20260419T094646
CREATED:20250104T184821Z
LAST-MODIFIED:20250929T115516Z
UID:10003165-1747324800-1747327500@dsabwp.azurewebsites.net
SUMMARY:Little Melodies ages 0-4
DESCRIPTION:Music Therapy for all abilities incorporating music and developmental goals! This class is open to siblings
URL:https://dsabwp.azurewebsites.net/event/little-melodies-ages-0-4/2025-05-15/
LOCATION:Florida Music Therapy Center\, 1906 Platt Street\, Melbourne\, 32901\, United States
END:VEVENT
BEGIN:VEVENT
DTSTART;TZID=America/New_York:20250514T170000
DTEND;TZID=America/New_York:20250514T180000
DTSTAMP:20260419T094646
CREATED:20250104T185201Z
LAST-MODIFIED:20250929T115602Z
UID:10003300-1747242000-1747245600@dsabwp.azurewebsites.net
SUMMARY:Music Meet Up Ages 11+
DESCRIPTION:A music therapy group for all incorporating music and movement! This class is closed to siblings.
URL:https://dsabwp.azurewebsites.net/event/music-meet-up-ages-11/2025-05-14/
LOCATION:Florida Music Therapy Center\, 1906 Platt Street\, Melbourne\, 32901\, United States
END:VEVENT
BEGIN:VEVENT
DTSTART;TZID=America/New_York:20250514T170000
DTEND;TZID=America/New_York:20250514T174500
DTSTAMP:20260419T094646
CREATED:20250104T185017Z
LAST-MODIFIED:20250929T115641Z
UID:10003255-1747242000-1747244700@dsabwp.azurewebsites.net
SUMMARY:Leaps and Sounds ages 5-10
DESCRIPTION:A music therapy group for all incorporating music and movement! This class is open to siblings
URL:https://dsabwp.azurewebsites.net/event/leaps-and-sounds-ages-5-10/2025-05-14/
LOCATION:Florida Music Therapy Center\, 1906 Platt Street\, Melbourne\, 32901\, United States
END:VEVENT
END:VCALENDAR